BEGIN:VCALENDAR
VERSION:2.0
PRODID:-//Discover Gloucester - ECPv6.15.20//NONSGML v1.0//EN
CALSCALE:GREGORIAN
METHOD:PUBLISH
X-WR-CALNAME:Discover Gloucester
X-ORIGINAL-URL:https://discovergloucester.com
X-WR-CALDESC:Events for Discover Gloucester
REFRESH-INTERVAL;VALUE=DURATION:PT1H
X-Robots-Tag:noindex
X-PUBLISHED-TTL:PT1H
BEGIN:VTIMEZONE
TZID:UTC
BEGIN:STANDARD
TZOFFSETFROM:+0000
TZOFFSETTO:+0000
TZNAME:UTC
DTSTART:20250101T000000
END:STANDARD
END:VTIMEZONE
BEGIN:VEVENT
DTSTART;TZID=UTC:20260213T193000
DTEND;TZID=UTC:20260213T230000
DTSTAMP:20260425T135707
CREATED:20260109T204402Z
LAST-MODIFIED:20260130T025458Z
UID:10000007-1771011000-1771023600@discovergloucester.com
SUMMARY:Mardi Gras with the Jambalaya Horns
DESCRIPTION:New Orleans-flavored Funk\, Soul\, and Brassy 2nd-Lines by the Jambalaya Horns will have you feeling like you’re in New Orleans this Mardi Gras season! Formed in 2013 and fronted by Carlos Menezes Jr. on lead vocals and horns\, the group strives to capture the essence and soul of the diverse musical culture of the Crescent City. The core group features Matt Jenson and Martina Gallo (keys)\, Rick Geraghty (drums)\, Gary Wolsieffer (bass/tuba) Henley Douglas Jr. (saxes)\, Anthony Prestigiovanni (trumpet)\, Ben Tuck (trombone)\, and Christian Towler (guitar). This show will also feature an expanded horn section and surprise guest vocalists! You’ll feel like you’re in New Orleans this Mardi Gras Season! \nCarlos Menezes Jr’s BrassFed Nation is a horn-driven groove machine with a unique sound incorporating the styles and traditions of early Jazz\, New Orleans Funk & Soul\, Rhythm & Blues\, Calypso\, and Jamaican Ska! Founded in 2013\, The BrassFed Nation is dedicated to the advancement of horn-driven music through exposure and outreach in both education and local musical culture! The collective features 3 unique ensembles; Cape Ann Big Band\, The Jambalaya Horns\, and The 15-Piece DubTone Orchestra – all striving to inspire and connect musicians of all ages through performances\, private studio lessons\, workshops\, and interactive clinics. \nABOUT JACYN TREMBLAY: Jacyn Tremblay is a versatile singer\, songwriter\, and recording artist with over 2 decades of professional experience! She currently performs throughout New England with the 9-piece band\, Beantown. Other musical credits include single releases on Universal/Motown Records in the pop/r&b vocal group Jada\, pop/rock singles in the duo Venus Mars Project\, performing as a regularly featured soloist with the Hillyer Festival Orchestra\, Jay Daly’s BBQ Brass\, The Portsmouth Symphony Orchestra and most recently The Merrimack Philharmonic. Her original pop trio Three Second Chances released their EP on November 2nd 2023 to all digital and streaming platforms and their Christmas song “When The Tree Goes Up” is featured in the Hallmark Channel movie “Letters to Santa” this season! The group also just performed live in NBC Boston’s The Hub. Jacyn is also the co-producer of MUSE: A Salute to Divas Showcase-a concert experience featuring regional female talent-aiming to empower and inspire female musicians everywhere!
URL:https://discovergloucester.com/event/mardi-gras-with-the-jambalaya-horns/
LOCATION:The Cut\, 177 Main Street\, Gloucester\, MA\, 01930\, United States
CATEGORIES:Live Music
ATTACH;FMTTYPE=image/jpeg:https://discovergloucester.com/wp-content/uploads/2026/01/Jambalaya-Horns-700-x-500-px.jpg
END:VEVENT
END:VCALENDAR