BEGIN:VCALENDAR
VERSION:2.0
PRODID:-//Discover Gloucester - ECPv6.15.20//NONSGML v1.0//EN
CALSCALE:GREGORIAN
METHOD:PUBLISH
X-WR-CALNAME:Discover Gloucester
X-ORIGINAL-URL:https://discovergloucester.com
X-WR-CALDESC:Events for Discover Gloucester
REFRESH-INTERVAL;VALUE=DURATION:PT1H
X-Robots-Tag:noindex
X-PUBLISHED-TTL:PT1H
BEGIN:VTIMEZONE
TZID:America/New_York
BEGIN:DAYLIGHT
TZOFFSETFROM:-0500
TZOFFSETTO:-0400
TZNAME:EDT
DTSTART:20250309T070000
END:DAYLIGHT
BEGIN:STANDARD
TZOFFSETFROM:-0400
TZOFFSETTO:-0500
TZNAME:EST
DTSTART:20251102T060000
END:STANDARD
BEGIN:DAYLIGHT
TZOFFSETFROM:-0500
TZOFFSETTO:-0400
TZNAME:EDT
DTSTART:20260308T070000
END:DAYLIGHT
BEGIN:STANDARD
TZOFFSETFROM:-0400
TZOFFSETTO:-0500
TZNAME:EST
DTSTART:20261101T060000
END:STANDARD
BEGIN:DAYLIGHT
TZOFFSETFROM:-0500
TZOFFSETTO:-0400
TZNAME:EDT
DTSTART:20270314T070000
END:DAYLIGHT
BEGIN:STANDARD
TZOFFSETFROM:-0400
TZOFFSETTO:-0500
TZNAME:EST
DTSTART:20271107T060000
END:STANDARD
END:VTIMEZONE
BEGIN:VEVENT
DTSTART;TZID=America/New_York:20260219T180000
DTEND;TZID=America/New_York:20260219T200000
DTSTAMP:20260425T135721
CREATED:20260206T190825Z
LAST-MODIFIED:20260206T190825Z
UID:10000024-1771524000-1771531200@discovergloucester.com
SUMMARY:Vocal Gumbo
DESCRIPTION:Doors 5:30pm\nShow 6:00pm\n18+\, Positive ID Required\nPremium Seating with cocktail service: $34.50-$39.50 + $6.95 service fee\nStandard Seating with cocktail service: $29.50 + $6.95 serivce fee\nRear Floor Seating: $24.50 + $6.95 service fee\nGA Standing: $15 + $6.95 service fee \n+ $5 Day of Show \nFrom their storied careers with The Manhattan Transfer and New York Voices\, Vocal Gumbo is a celebration of the great singer community in our midst. The night features Janis and Lauren with their trio and a curated salon of vocalists who will wow and mesmerize. \nTwo like minded Divas walked into a studio and exited fast friends\, co-conspirators and believers that when you shine a light on one\, you shine a light on all. Lovers of the vocal arts and what the voice can humanly and spiritually do\, they curate from the voluptuous and local singer’s scenes and Poof\, Vocal Gumbo. One after another\, singers are invited to the stage by Janis and Lauren and the program blossoms with every performance. Expect to hear legends alongside up and coming talent and everything in between. All genres are celebrated and collaborations are likely to happen. Featuring a top notch rhythm section\, the sets are one of a kind\, where excellence and soul are omnipresent and community is the cup we’re all drinking from. Don’t miss the chance to be included in the warmth these women create with a heavy dose of vocal prowess.
URL:https://discovergloucester.com/event/vocal-gumbo/
LOCATION:The Cut\, 177 Main Street\, Gloucester\, MA\, 01930\, United States
CATEGORIES:Live Music
ATTACH;FMTTYPE=image/jpeg:https://discovergloucester.com/wp-content/uploads/2026/02/VOCAL-GUMBO-700-x-500-px.jpg
END:VEVENT
END:VCALENDAR