BEGIN:VCALENDAR
VERSION:2.0
PRODID:-//Discover Gloucester - ECPv6.15.20//NONSGML v1.0//EN
CALSCALE:GREGORIAN
METHOD:PUBLISH
X-ORIGINAL-URL:https://discovergloucester.com
X-WR-CALDESC:Events for Discover Gloucester
REFRESH-INTERVAL;VALUE=DURATION:PT1H
X-Robots-Tag:noindex
X-PUBLISHED-TTL:PT1H
BEGIN:VTIMEZONE
TZID:UTC
BEGIN:STANDARD
TZOFFSETFROM:+0000
TZOFFSETTO:+0000
TZNAME:UTC
DTSTART:20250101T000000
END:STANDARD
END:VTIMEZONE
BEGIN:VEVENT
DTSTART;TZID=UTC:20260228T130000
DTEND;TZID=UTC:20260228T150000
DTSTAMP:20260423T075215
CREATED:20260109T205450Z
LAST-MODIFIED:20260129T020037Z
UID:10000010-1772283600-1772290800@discovergloucester.com
SUMMARY:Bridgerton Afternoon Tea at the Castle
DESCRIPTION:Please note: As one of our major fundraisers of the season\, all proceeds from this event will support the ongoing restoration and preservation of the historic Hammond Castle Museum. Our members enjoy Ticket Presale for this premier event. Member savings are not applicable. Admissions tickets will be released to the public on 1/13/2026. \nDearest Gentle Reader\, \nIt is with the utmost delight that this author reports a most charming daytime affair is soon to grace the social calendar. All members of society\, young and old alike\, are warmly invited to partake in an afternoon of refinement\, indulgence\, and genteel amusement. \nThe Bridgerton Afternoon Tea at Hammond Castle Museum shall take place on Saturday\, February 28\, offering guests of every generation a rare opportunity to enjoy elegance by daylight. One may expect an afternoon rich with conversation\, courtesy\, and more than a few raised teacups. \nGuests will be graciously received and escorted to a beautifully appointed tea setting\, where Her Majesty the Queen\, attended by her ever-watchful ladies-in-waiting\, will observe the room with keen interest. Every delicate sip\, polite smile\, and charming exchange may be noted\, for even at tea\, appearances matter. \nThe afternoon will begin with a celebratory toast\, featuring champagne for adult guests and sparkling cider for the young ladies and gentlemen in attendance\, setting a festive tone worthy of the season. \nA live pianist will provide a refined musical accompaniment as guests enjoy a curated afternoon tea service featuring an array of fine teas\, delicate sandwiches\, and exquisite confections\, thoughtfully prepared by Sugar Magnolia’s. Throughout the afternoon\, the entire Museum will be open for self-guided exploration and photographs\, allowing guests to wander the castle’s passageways and capture memories worthy of the society pages. \nGuests of all ages are encouraged to don their finest daytime attire\, practice impeccable manners\, and enjoy the occasion\, for even in the soft glow of afternoon\, nothing escapes the Queen’s notice.
URL:https://discovergloucester.com/event/bridgerton-afternoon-tea-at-the-castle/
LOCATION:Hammond Castle Museum\, 80 Hesperus Ave.\, Gloucester\, MA\, 01930\, United States
CATEGORIES:Winter
ATTACH;FMTTYPE=image/jpeg:https://discovergloucester.com/wp-content/uploads/2026/01/TEA-9.jpg
END:VEVENT
BEGIN:VEVENT
DTSTART;TZID=UTC:20260228T180000
DTEND;TZID=UTC:20260228T220000
DTSTAMP:20260423T075215
CREATED:20260109T205722Z
LAST-MODIFIED:20260129T015941Z
UID:10000011-1772301600-1772316000@discovergloucester.com
SUMMARY:Bridgerton Ball at the Castle
DESCRIPTION:Please note: As one of our major fundraisers of the season\, all proceeds from this event will support the ongoing restoration and preservation of the historic Hammond Castle Museum. Our members enjoy Ticket Presale for this premier event. Admissions tickets will be released to the public on 1/13/2026. \nDearest Gentle Reader\, \nIt is with the greatest pleasure\, and no small measure of excitement\, that this author announces the arrival of the most anticipated society affair of the winter season. The time has come to secure one’s place in the Queen’s Court for the Ball of the Season! \nThe Bridgerton Regency-Era Ball at Hammond Castle Museum shall take place on Saturday\, February 28\, and this author can confidently confirm it is already the most discussed engagement among discerning members of the ton. \nUpon arrival\, guests will be greeted by a stately footman and guided to the Great Hall\, where they will be formally presented to Her Majesty the Queen. Ever watchful\, Her Majesty\, along with her Royal Footman\, Brimsley\, will keenly observe every curtsy\, compliment\, and whispered intrigue. A live string quartet and roving harpist will provide an enchanting musical backdrop as the Queen surveys the room in search of the evening’s Diamond of the Season. \nGuests will delight in a choreographed Regency dance lesson\, and group dance\, followed by an evening of spirited\, modern music & dancing as a DJ carries the celebration into the night. Throughout the evening\, guests will enjoy exquisite bites & sweet treats catered by Sugar Magnolia’s\, ensuring no one leaves the ballroom unsatisfied. A cash bar will also be available for those who wish to participate. This event is intended for those age 18 years and older. \nRegency-style attire is strongly encouraged\, as one would hate to be the only guest out of fashion. \nDetails:\n-Check-in at the Museum Shop begins at 5:45 pm.\n-Entrance to the Great Hall begins at 6:00 pm sharp.\n-The Ball concludes at 10:00 pm\n-Cash Bar \nReservations are required in advance. This event is expected to sell out\, and availability is limited. Parking is free\, but we encourage carpooling or using a ride-share service. Please note that the Museum and grounds are nearly a century old and not handicapped accessible due to many stairs.
URL:https://discovergloucester.com/event/bridgerton-ball-at-the-castle/
LOCATION:Hammond Castle Museum\, 80 Hesperus Ave.\, Gloucester\, MA\, 01930\, United States
CATEGORIES:Winter
ATTACH;FMTTYPE=image/jpeg:https://discovergloucester.com/wp-content/uploads/2026/01/TEA-1-4.jpg
END:VEVENT
BEGIN:VEVENT
DTSTART;TZID=UTC:20260228T200000
DTEND;TZID=UTC:20260228T230000
DTSTAMP:20260423T075215
CREATED:20260109T204136Z
LAST-MODIFIED:20260113T212722Z
UID:10000006-1772308800-1772319600@discovergloucester.com
SUMMARY:Dueling Pianos at The Cut
DESCRIPTION:Dueling Pianos is back. Bring your friends and have a Ball. Dueling Pianos is a massive “to the top of your lungs” sing along with all your friends! Two grand pianos are center-stage with a team of outrageously talented pianists that seem to know every song ever written. \nEach show is different because it’s all request. And you or your friends might get called up onstage for a bit of good humored fun and some unforgettable you-tube moments. These shows are request oriented\, interactive sing-a-longs wherein two piano players sit across from each other and trade songs. The dueling piano audience is used for the dueling aspect of the show. Audience members are pitted one-side-against-the-other. Examples of rivalries include country vs. rock\, men against women\, etc. \nDueling piano shows often take unexpected turns\, like involving wait staff members\, changing song lyrics or roasting popular audience members. There aren’t many boundaries. It’s one big sing-along party\, swaying to the music and bellowing-out familiar lyrics. You’re not just being entertained by the piano players – you are part of the show! \n“Think YOU won’t sing along? Just TRY not too…. I dare ya!”
URL:https://discovergloucester.com/event/dueling-pianos-at-the-cut/
LOCATION:The Cut\, 177 Main Street\, Gloucester\, MA\, 01930\, United States
CATEGORIES:Live Music
ATTACH;FMTTYPE=image/png:https://discovergloucester.com/wp-content/uploads/2026/01/Copy-of-Dueling-Pianos-POST-Late-Summer-1.png
END:VEVENT
END:VCALENDAR