BEGIN:VCALENDAR
VERSION:2.0
PRODID:-//Discover Gloucester - ECPv6.15.20//NONSGML v1.0//EN
CALSCALE:GREGORIAN
METHOD:PUBLISH
X-ORIGINAL-URL:https://discovergloucester.com
X-WR-CALDESC:Events for Discover Gloucester
REFRESH-INTERVAL;VALUE=DURATION:PT1H
X-Robots-Tag:noindex
X-PUBLISHED-TTL:PT1H
BEGIN:VTIMEZONE
TZID:America/New_York
BEGIN:DAYLIGHT
TZOFFSETFROM:-0500
TZOFFSETTO:-0400
TZNAME:EDT
DTSTART:20250309T070000
END:DAYLIGHT
BEGIN:STANDARD
TZOFFSETFROM:-0400
TZOFFSETTO:-0500
TZNAME:EST
DTSTART:20251102T060000
END:STANDARD
BEGIN:DAYLIGHT
TZOFFSETFROM:-0500
TZOFFSETTO:-0400
TZNAME:EDT
DTSTART:20260308T070000
END:DAYLIGHT
BEGIN:STANDARD
TZOFFSETFROM:-0400
TZOFFSETTO:-0500
TZNAME:EST
DTSTART:20261101T060000
END:STANDARD
BEGIN:DAYLIGHT
TZOFFSETFROM:-0500
TZOFFSETTO:-0400
TZNAME:EDT
DTSTART:20270314T070000
END:DAYLIGHT
BEGIN:STANDARD
TZOFFSETFROM:-0400
TZOFFSETTO:-0500
TZNAME:EST
DTSTART:20271107T060000
END:STANDARD
END:VTIMEZONE
BEGIN:VEVENT
DTSTART;TZID=America/New_York:20260307T110000
DTEND;TZID=America/New_York:20260307T120000
DTSTAMP:20260425T122419
CREATED:20260206T184719Z
LAST-MODIFIED:20260206T184719Z
UID:10000017-1772881200-1772884800@discovergloucester.com
SUMMARY:Mad Science at the Castle
DESCRIPTION:Hands-on fun and experiments for curious minds. \nIt’s alive! That’s right\, science comes alive at the Castle as we host the Mad Scientist on March 7th for two fun & interactive programs for young scientists. \nMad Science offers a thrilling 50 to 60-minute live science spectacular where experiments erupt\, fog rolls across the room\, and science comes alive before your eyes. This fast-paced\, highly interactive program invites young scientists to join the Mad Scientist on stage\, answer animated questions\, and assist with jaw-dropping demonstrations that look like magic but are grounded in real science. Using an inquiry-based approach\, every experiment is explained in an engaging\, age-appropriate way that keeps kids curious\, laughing\, and learning. Expect foggy dry ice storms\, giant beach balls floating in midair\, sizzling and shivering scissors\, bubbling showers\, and dramatic Fire and Ice effects that never fail to amaze. \nKids will be encouraged to sit up front\, close to the stage\, with accompanying adults seated behind them. This arrangement helps ensure all children can see clearly and actively engage in the program. This program is ideal for ages 5 and up. It offers the opportunity for hands-on engagement and is designed to spark wonder\, encourage participation\, and leave kids buzzing with excitement long after the show ends. Space is limited\, and shows often sell out. Reserve your tickets now and let your young scientists experience Mad Science unleashed at the Castle! \nDetails:\n2 sessions:\n– 11:00 am – 12:00 pm\n– 1:00 pm – 2:00 pm \nMuseum member benefits apply.
URL:https://discovergloucester.com/event/mad-science-at-the-castle/2026-03-07/1/
LOCATION:Hammond Castle Museum\, 80 Hesperus Ave.\, Gloucester\, MA\, 01930\, United States
ATTACH;FMTTYPE=image/jpeg:https://discovergloucester.com/wp-content/uploads/2026/02/madscience-1.jpeg
END:VEVENT
BEGIN:VEVENT
DTSTART;TZID=America/New_York:20260307T130000
DTEND;TZID=America/New_York:20260307T140000
DTSTAMP:20260425T122419
CREATED:20260206T184719Z
LAST-MODIFIED:20260206T184719Z
UID:10000018-1772888400-1772892000@discovergloucester.com
SUMMARY:Mad Science at the Castle
DESCRIPTION:Hands-on fun and experiments for curious minds. \nIt’s alive! That’s right\, science comes alive at the Castle as we host the Mad Scientist on March 7th for two fun & interactive programs for young scientists. \nMad Science offers a thrilling 50 to 60-minute live science spectacular where experiments erupt\, fog rolls across the room\, and science comes alive before your eyes. This fast-paced\, highly interactive program invites young scientists to join the Mad Scientist on stage\, answer animated questions\, and assist with jaw-dropping demonstrations that look like magic but are grounded in real science. Using an inquiry-based approach\, every experiment is explained in an engaging\, age-appropriate way that keeps kids curious\, laughing\, and learning. Expect foggy dry ice storms\, giant beach balls floating in midair\, sizzling and shivering scissors\, bubbling showers\, and dramatic Fire and Ice effects that never fail to amaze. \nKids will be encouraged to sit up front\, close to the stage\, with accompanying adults seated behind them. This arrangement helps ensure all children can see clearly and actively engage in the program. This program is ideal for ages 5 and up. It offers the opportunity for hands-on engagement and is designed to spark wonder\, encourage participation\, and leave kids buzzing with excitement long after the show ends. Space is limited\, and shows often sell out. Reserve your tickets now and let your young scientists experience Mad Science unleashed at the Castle! \nDetails:\n2 sessions:\n– 11:00 am – 12:00 pm\n– 1:00 pm – 2:00 pm \nMuseum member benefits apply.
URL:https://discovergloucester.com/event/mad-science-at-the-castle/2026-03-07/2/
LOCATION:Hammond Castle Museum\, 80 Hesperus Ave.\, Gloucester\, MA\, 01930\, United States
ATTACH;FMTTYPE=image/jpeg:https://discovergloucester.com/wp-content/uploads/2026/02/madscience-1.jpeg
END:VEVENT
BEGIN:VEVENT
DTSTART;TZID=America/New_York:20260307T140000
DTEND;TZID=America/New_York:20260307T140000
DTSTAMP:20260425T122419
CREATED:20260206T185040Z
LAST-MODIFIED:20260206T185040Z
UID:10000019-1772892000-1772892000@discovergloucester.com
SUMMARY:14th Annual Charles Olson Lecture
DESCRIPTION:In the 2026 Charles Olson Lecture\, James Cook will explore the ways that Gloucester has been a site of celebration\, interrogation\, explication\, negation\, and extension of Charles Olson’s work in the period from the near the end of the twentieth century (beginning with the Charles Olson Festival in August of 1995) through the first quarter of the twenty-first century. \nThe talk will highlight Gloucester as a nexus of activity where local and visiting writers\, artists\, and educators have engaged with Olson not to memorialize the man and the work but to find and question what “is of essential use.” In the talk\, Peter Anastas and Gerrit Lansing will figure prominently as guides\, beacons\, and exemplars who helped to create the conditions for a complex\, multi-faceted\, living engagement with Olson’s work. \nAs part of the program Amanda Cook\, author of Ironstone Whirlygig\, will read selections from her ongoing poem-by-poem response to The Maximus Poems\, much of which has appeared in the literary magazine SpoKe. David Rich\, author of Charles Olson: Letters Home (1949-1969)\, will provide context for Olson’s legacy in Gloucester and will participate in a Question & Answer session after the talk. \nJames Cook is an English teacher at Gloucester High School. He was a founding editor of the literary magazine Polis. His poems and essays have appeared in SpoKe\, Jacket2\, Let the Bucket Down\, Process\, and other small magazines. He has lectured on Olson previously\, most recently in a talk entitled “Harborside Civics Lessons: Gloucester Harbor in the Political Imagination of Gloucester Writers” delivered at the Jonathan Bayliss Society Conference in September of 2025. \nDavid Rich edited Charles Olson: Letters Home\, 1949-1969\, published by the Cape Ann Museum in 2010 in support of the Olson centenary. He has also lectured at the Cape Ann Museum on Olson\, Vincent Ferrini\, and Gloucester’s fishing history. \nAmanda Cook is sometimes in the water and sometimes underwater in Gloucester\, MA. She has been in a long conversation with Charles Olson for some time now. Her 2018 book Ironstone Whirlygig was published by Bootstrap Press. \nThe 14th annual Charles Olson Lecture is presented as a collaboration between the Cape Ann Museum and the Gloucester Writers’ Center.
URL:https://discovergloucester.com/event/14th-annual-charles-olson-lecture/
LOCATION:Cape Ann Museum Green\, 13 Poplar Street\, Gloucester\, MA\, 01930\, United States
ATTACH;FMTTYPE=image/jpeg:https://discovergloucester.com/wp-content/uploads/2026/02/Charles-Olson-Lecture-600x400-1.jpg
END:VEVENT
BEGIN:VEVENT
DTSTART;TZID=America/New_York:20260307T190000
DTEND;TZID=America/New_York:20260307T210000
DTSTAMP:20260425T122419
CREATED:20260205T160628Z
LAST-MODIFIED:20260205T160628Z
UID:10000015-1772910000-1772917200@discovergloucester.com
SUMMARY:Nick of Time: Miranda Russell Sings Bonnie Raitt
DESCRIPTION:North Shore audiences pack the house for Miranda Russell at Gloucester Stage Company. Experience her phenomenal interpretation of the soulful sounds of Bonnie Raitt\, joined by a world-class nine-piece backing band. \nRussell will perform a spellbinding selection of music spanning Raitt’s remarkable 50-year career. The setlist thoughtfully blends radio hits and deep cuts\, featuring beloved fan favorites like “Angel From Montgomery” and “I Can’t Make You Love Me.” Miranda brings her signature passion and vocal agility to each song\, ensuring an evening that will leave audiences both rapt and enraptured. \nLearn more about Miranda by visiting mirandarussell.com. \nPerforming from March 6th to the 8th\, all performances are at The Natti-Willsky Performance Center\, Home of Gloucester Stage Company\, 267 East Main Street\, Gloucester. Showtimes are Friday & Saturday at 7:00pm and Sunday at 3:00pm. Tickets can be purchased online or by calling the box office at 978-281-4433.
URL:https://discovergloucester.com/event/nick-of-time-miranda-russell-sings-bonnie-raitt/2026-03-07/
LOCATION:Gloucester Stage\, 267 E Main Street\, Gloucester\, MA\, 01930\, United States
CATEGORIES:Live Music
ATTACH;FMTTYPE=image/jpeg:https://discovergloucester.com/wp-content/uploads/2026/02/Miranda-Russell-community-calendar.jpg
END:VEVENT
BEGIN:VEVENT
DTSTART;TZID=America/New_York:20260307T200000
DTEND;TZID=America/New_York:20260307T230000
DTSTAMP:20260425T122419
CREATED:20260206T185219Z
LAST-MODIFIED:20260206T185219Z
UID:10000020-1772913600-1772924400@discovergloucester.com
SUMMARY:Nirvani - A Nirvana Tribute Experience with Foo!
DESCRIPTION:Nirvani is the most authentic and electrifying tribute band to the legendary grunge pioneers\, Nirvana. Known for their accurate recreation of the raw\, high-energy performances that made Kurt Cobain and company a cultural phenomenon\, Nirvani has been selling out venues across the country. From the iconic\, distorted guitar riffs to the anguished screams and rebellious spirit\, Nirvani brings the music of Nirvana to life in a way that feels as powerful and visceral as it did in the 90s. \nNirvani’s live shows are a high-octane journey through all the hits and deep cuts that defined Nirvana’s catalog. With a stage presence that channels the chaotic energy of the original band\, they deliver an unforgettable experience\, playing fan favorites like “Smells Like Teen Spirit\,” “Come As You Are\,” and “Heart-Shaped Box\,” alongside deeper tracks that true Nirvana fans will love. Their wild stage presence\, combined with instrument-smashing finales\, ensures no two shows are ever the same.
URL:https://discovergloucester.com/event/nirvani-a-nirvana-tribute-experience-with-foo/
LOCATION:The Cut\, 177 Main Street\, Gloucester\, MA\, 01930\, United States
CATEGORIES:Live Music
ATTACH;FMTTYPE=image/jpeg:https://discovergloucester.com/wp-content/uploads/2026/02/Nirvani-POST-1.jpg
END:VEVENT
END:VCALENDAR