BEGIN:VCALENDAR
VERSION:2.0
PRODID:-//Discover Gloucester - ECPv6.15.20//NONSGML v1.0//EN
CALSCALE:GREGORIAN
METHOD:PUBLISH
X-WR-CALNAME:Discover Gloucester
X-ORIGINAL-URL:https://discovergloucester.com
X-WR-CALDESC:Events for Discover Gloucester
REFRESH-INTERVAL;VALUE=DURATION:PT1H
X-Robots-Tag:noindex
X-PUBLISHED-TTL:PT1H
BEGIN:VTIMEZONE
TZID:America/New_York
BEGIN:DAYLIGHT
TZOFFSETFROM:-0500
TZOFFSETTO:-0400
TZNAME:EDT
DTSTART:20250309T070000
END:DAYLIGHT
BEGIN:STANDARD
TZOFFSETFROM:-0400
TZOFFSETTO:-0500
TZNAME:EST
DTSTART:20251102T060000
END:STANDARD
BEGIN:DAYLIGHT
TZOFFSETFROM:-0500
TZOFFSETTO:-0400
TZNAME:EDT
DTSTART:20260308T070000
END:DAYLIGHT
BEGIN:STANDARD
TZOFFSETFROM:-0400
TZOFFSETTO:-0500
TZNAME:EST
DTSTART:20261101T060000
END:STANDARD
BEGIN:DAYLIGHT
TZOFFSETFROM:-0500
TZOFFSETTO:-0400
TZNAME:EDT
DTSTART:20270314T070000
END:DAYLIGHT
BEGIN:STANDARD
TZOFFSETFROM:-0400
TZOFFSETTO:-0500
TZNAME:EST
DTSTART:20271107T060000
END:STANDARD
END:VTIMEZONE
BEGIN:VEVENT
DTSTART;TZID=America/New_York:20260422T090000
DTEND;TZID=America/New_York:20260422T143000
DTSTAMP:20260421T055910
CREATED:20260403T175427Z
LAST-MODIFIED:20260403T175427Z
UID:10000061-1776848400-1776868200@discovergloucester.com
SUMMARY:Eric Pape: Fantasy Illustrations
DESCRIPTION:Join us for our fourth annual Eric Pape fine art exhibition at the Hammond Castle Museum\, featuring a significant collection of pen and ink illustrations by Eric Pape (1870 to 1938). Many of these works were recovered from Pape’s locked studio decades after his death and have not been publicly exhibited in over a century. Included are illustrations originally created for The Arabian Nights\, Tales of Wonder and Magnificence\, Fairy Tales and Stories by Hans Christian Andersen\, Victor Hugo’s Notre Dame de Paris\, Rip Van Winkle\, The Legend of Sleepy Hollow\, and Shakespeare and The Heart of a Child by Gertrude Slaughter. \nThis year’s exhibition will feature 73 works on loan from renowned conflict zone photographer Bruce Haley. These pieces have recently been cleaned and conserved and have not been publicly exhibited since Eric Pape’s death in 1938. The illustrations are being loaned from Haley’s extensive art collection in Northern California. The exhibition will also include more than a dozen works from Dr. Gregory Conn’s personal collection\, previously exhibited at the Queen Christina House Museum and the Museum Kloster in Zeven\, Germany. \nAdmission to this temporary exhibition also includes self-guided tour access to the Museum. Guests will also have the opportunity to view the sole remaining Eric Pape mural on permanent display in the Dr. Gregory Conn and Dr. Sagrario Ortega Room in the Lower Den. \n*Advance Reservations Strongly Encouraged.* \n– Museum Member savings apply. \nFlexible Arrival Times for Self-Guided Tours: Experience Hammond Castle Museum at your own pace with our flexible arrival times for Self-Guided Tours! Your ticket grants you entry anytime within the Morning or Afternoon session times\, based upon your selection\, ensuring you can arrive stress-free and enjoy your visit to the fullest. \nMorning Session: 9:00 am – 11:45 am\nAfternoon Session: 11:45 am – 2:30 pm \nPlease note: the last entrance into the Museum is at 2:45 pm sharp. The Museum and Grounds close promptly at 3:30 pm. We recommend planning at least 60 minutes to explore the grounds and interior galleries of the Museum.
URL:https://discovergloucester.com/event/eric-pape-fantasy-illustrations/2026-04-22/
LOCATION:Hammond Castle Museum\, 80 Hesperus Ave.\, Gloucester\, MA\, 01930\, United States
CATEGORIES:Art Exhibitions,Spring
ATTACH;FMTTYPE=image/avif:https://discovergloucester.com/wp-content/uploads/2026/04/Eric-Pape-Illustrations-1024x536.jpg.avif
END:VEVENT
BEGIN:VEVENT
DTSTART;TZID=America/New_York:20260422T140000
DTEND;TZID=America/New_York:20260422T150000
DTSTAMP:20260421T055910
CREATED:20260403T190819Z
LAST-MODIFIED:20260403T190819Z
UID:10000087-1776866400-1776870000@discovergloucester.com
SUMMARY:CAM Talk: To Live like an Artist\, Cape Ann of the 1920s\, by Martha Oaks
DESCRIPTION:Wednesday\, April 22\, 2026\n2:00 p.m. – 3:00 p.m.\nJanet & William Ellery James Center\, CAM Green\n13 Poplar Street\, Gloucester\, MA 01930\nCAM Members $5\, Non-Members $10.\nRegistration Required. Parking is first come\, first served and carpooling is encouraged. \nThis talk by Martha Oaks\, the Museum’s Chief Curator and contributing author to the upcoming Avery\, Gottlieb\, & Rothko: By the Sea exhibition\, will explore Milton Avery and Sally Michel’s earliest visits to Gloucester\, setting the stage for future stays with artist friends. What was it that drew the couple here and inspired them to keep coming back? Who did they rub shoulders with on Cape Ann and who was taking note of their work? Learn what has changed in the local art colony over the past century and what has stayed the same. \nThis lecture is presented in conjunction with the museum’s upcoming exhibition\, Avery\, Gottlieb\, & Rothko: By the Sea\, offering context and insight into the artists and themes in the exhibit. For more information about upcoming lectures for the exhibition\, please visit the Events Calendar. \nMartha Oaks is the Henrietta Gates and Heaton Robertson Chief Curator of the Cape Ann Museum. She has written extensively on the art\, artists\, history\, and culture of Gloucester\, Massachusetts\, and Cape Ann\, contributing catalog entries\, articles\, and essays. Oaks has curated numerous exhibitions exploring the history and the artists of Cape Ann and has contributed to Fitz Henry Lane Online\, a digital resource and catalog to the American marine artist. She holds an MA in American and New England Studies from Boston University and a BA from Colby College. \nImage Credit: Gloucester Chamber of Commerce booster car\, 1925. Cape Ann Museum\, Gloucester\, Massachusetts
URL:https://discovergloucester.com/event/cam-talk-to-live-like-an-artist-cape-ann-of-the-1920s-by-martha-oaks/
LOCATION:Cape Ann Museum Green\, 13 Poplar Street\, Gloucester\, MA\, 01930\, United States
CATEGORIES:Spring
ATTACH;FMTTYPE=image/avif:https://discovergloucester.com/wp-content/uploads/2026/04/600x400-Meet-Me-at-Gloucester-Poster-Martha-CAM-Talk.jpg.avif
END:VEVENT
END:VCALENDAR