BEGIN:VCALENDAR
VERSION:2.0
PRODID:-//Discover Gloucester - ECPv6.15.20//NONSGML v1.0//EN
CALSCALE:GREGORIAN
METHOD:PUBLISH
X-ORIGINAL-URL:https://discovergloucester.com
X-WR-CALDESC:Events for Discover Gloucester
REFRESH-INTERVAL;VALUE=DURATION:PT1H
X-Robots-Tag:noindex
X-PUBLISHED-TTL:PT1H
BEGIN:VTIMEZONE
TZID:America/New_York
BEGIN:DAYLIGHT
TZOFFSETFROM:-0500
TZOFFSETTO:-0400
TZNAME:EDT
DTSTART:20250309T070000
END:DAYLIGHT
BEGIN:STANDARD
TZOFFSETFROM:-0400
TZOFFSETTO:-0500
TZNAME:EST
DTSTART:20251102T060000
END:STANDARD
BEGIN:DAYLIGHT
TZOFFSETFROM:-0500
TZOFFSETTO:-0400
TZNAME:EDT
DTSTART:20260308T070000
END:DAYLIGHT
BEGIN:STANDARD
TZOFFSETFROM:-0400
TZOFFSETTO:-0500
TZNAME:EST
DTSTART:20261101T060000
END:STANDARD
BEGIN:DAYLIGHT
TZOFFSETFROM:-0500
TZOFFSETTO:-0400
TZNAME:EDT
DTSTART:20270314T070000
END:DAYLIGHT
BEGIN:STANDARD
TZOFFSETFROM:-0400
TZOFFSETTO:-0500
TZNAME:EST
DTSTART:20271107T060000
END:STANDARD
END:VTIMEZONE
BEGIN:VEVENT
DTSTART;TZID=America/New_York:20260510T100000
DTEND;TZID=America/New_York:20260510T140000
DTSTAMP:20260425T122448
CREATED:20260414T135344Z
LAST-MODIFIED:20260414T135344Z
UID:10000675-1778407200-1778421600@discovergloucester.com
SUMMARY:Mothers Day by the Sea Buffet
DESCRIPTION:On Sunday\, May 10th\, join us for Mother’s Day by the Sea at Beauport Hotel and choose from two beautiful dining experiences. In our oceanfront Grand Ballroom\, enjoy a vibrant\, chef-curated Mother’s Day Buffet from 10:00AM–2:00PM\, priced at $89 per adult and $49 per child. Featuring seasonal favorites and elevated brunch classics\, and set against sweeping views of Gloucester Harbor\, it’s the perfect setting to toast to Mom surrounded by the people she loves most. View the buffet menu and book your reservation today.
URL:https://discovergloucester.com/event/mothers-day-by-the-sea-buffet/
LOCATION:Beauport Hotel\, 55 Commercial Street\, Gloucester\, MA\, 01930\, United States
CATEGORIES:Spring
ATTACH;FMTTYPE=image/png:https://discovergloucester.com/wp-content/uploads/2026/04/MOTHERS-DAY-BY-THE-SEA.-IG-Post-Facebook-Post-2-1.png
END:VEVENT
BEGIN:VEVENT
DTSTART;TZID=America/New_York:20260510T110000
DTEND;TZID=America/New_York:20260510T150000
DTSTAMP:20260425T122448
CREATED:20260422T151600Z
LAST-MODIFIED:20260422T151600Z
UID:10000689-1778410800-1778425200@discovergloucester.com
SUMMARY:Mother's Day Brunch
DESCRIPTION:Join us at The Emerson Inn to celebrate mothers at our Mother’s Day Brunch by the Sea in the most beautiful setting north of Boston.\nWe will have a brunch buffet and live music and our Bar will be open at 11am\, serving Mimosas\, Bloody Mary’s and other specialties for an additional fee.\nMay 10th| 11:00 – 3:00 pm
URL:https://discovergloucester.com/event/mothers-day-brunch/
LOCATION:Emerson Inn\, 1 Cathedral Ave.\, Rockport\, MA\, 01966\, United States
ATTACH;FMTTYPE=image/jpeg:https://discovergloucester.com/wp-content/uploads/2026/04/4AA3E5E7-E4C8-4A60-8635-449869EE49B2_1_201_a.jpeg
END:VEVENT
BEGIN:VEVENT
DTSTART;TZID=America/New_York:20260510T120000
DTEND;TZID=America/New_York:20260510T170000
DTSTAMP:20260425T122448
CREATED:20260406T154640Z
LAST-MODIFIED:20260406T154640Z
UID:10000110-1778414400-1778432400@discovergloucester.com
SUMMARY:Emerging Perspectives\, Works by Artists 18-30
DESCRIPTION:Gallery Hours: Friday – Sunday\, 12-5pm \n‘Emerging Perspectives’ is a juried exhibition illuminating the vital and evolving voices of the region’s next generation of artists. This showcase serves as a bridge between the storied traditions of America’s oldest continuously operating art colony and the imaginative inquiries of creators aged 18 to 30. \nSelected by the RNAC Exhibitions Committee\, the exhibition presents a focused collection of work that captures a moment of professional becoming. Spanning a wide range of media\, the collection reflects a deep commitment to personal exploration and the pursuit of a distinct visual language. By facilitating a dialogue between these rising artists and the established creative lineage of Gloucester\, the Rocky Neck Art Colony continues its 150-year legacy of fostering the future of the arts. \n‘Emerging Perspectives’ is an invitation to witness the initial professional steps of those who will shape our cultural landscape. It offers a rare glimpse into the burgeoning careers of artists as they transition their practice into the public sphere. We invite the community to observe this growth and support the creative spirit that defines our region. \nThe public is invited to celebrate these new perspectives at the Opening Reception on Sunday\, April 12\, 2026\, from 4-6:00pm. Join Rocky Neck Art Colony and the artists to experience the collection\, meet the artists\, and enjoy an afternoon of refreshments and lively conversation. \nArtwork by: (clockwise) Ben Laird\, Blocks; Ethan LeJeune\, Standing Stones; Rory Kenney\, Be There; Tia Camire\, Prey
URL:https://discovergloucester.com/event/emerging-perspectives-works-by-artists-18-30/2026-05-10/
LOCATION:The Cultural Center at Rocky Neck\, 6 Wonson Street\, Gloucester\, MA\, 01930\, United States
CATEGORIES:Art Exhibitions,Spring
ATTACH;FMTTYPE=image/avif:https://discovergloucester.com/wp-content/uploads/2026/04/Event-image-2026-1024x1024.jpg.avif
END:VEVENT
BEGIN:VEVENT
DTSTART;TZID=America/New_York:20260510T120000
DTEND;TZID=America/New_York:20260510T183000
DTSTAMP:20260425T122448
CREATED:20260414T135425Z
LAST-MODIFIED:20260414T135425Z
UID:10000674-1778414400-1778437800@discovergloucester.com
SUMMARY:Mother's Day by the Sea Prix Fixe
DESCRIPTION:On Sunday\, May 10th\, join us for a Mother’s Day Prix Fixe by the Sea at 1606 Restaurant & Oyster Bar. Reservations are available from 12:00 PM – 6:30 PM. $99 per adult. This beautiful celebration features a refined three-course prix fixe menu\, with standout dishes such as Lobster Salad\, Seared Tuna Niçoise\, and Truffled Chicken Kiev\, followed by desserts like Meyer Lemon Tartlet and Coconut Wedding Cake. Each course is thoughtfully crafted and served alongside panoramic waterfront views\, creating an elegant and unhurried way to savor the moment and celebrate Mom with coastal cuisine.
URL:https://discovergloucester.com/event/mothers-day-by-the-sea-prix-fixe/
LOCATION:1606 Restaurant & Oyster Bar\, Beauport Hotel\, 55 Commercial Street\, Gloucester\, MA\, 01930\, United States
CATEGORIES:Dining,Spring
ATTACH;FMTTYPE=image/png:https://discovergloucester.com/wp-content/uploads/2026/04/MOTHERS-DAY-BY-THE-SEA.-IG-Post-Facebook-Post-2.png
END:VEVENT
END:VCALENDAR