BEGIN:VCALENDAR
VERSION:2.0
PRODID:-//Discover Gloucester - ECPv6.15.20//NONSGML v1.0//EN
CALSCALE:GREGORIAN
METHOD:PUBLISH
X-ORIGINAL-URL:https://discovergloucester.com
X-WR-CALDESC:Events for Discover Gloucester
REFRESH-INTERVAL;VALUE=DURATION:PT1H
X-Robots-Tag:noindex
X-PUBLISHED-TTL:PT1H
BEGIN:VTIMEZONE
TZID:America/New_York
BEGIN:DAYLIGHT
TZOFFSETFROM:-0500
TZOFFSETTO:-0400
TZNAME:EDT
DTSTART:20250309T070000
END:DAYLIGHT
BEGIN:STANDARD
TZOFFSETFROM:-0400
TZOFFSETTO:-0500
TZNAME:EST
DTSTART:20251102T060000
END:STANDARD
BEGIN:DAYLIGHT
TZOFFSETFROM:-0500
TZOFFSETTO:-0400
TZNAME:EDT
DTSTART:20260308T070000
END:DAYLIGHT
BEGIN:STANDARD
TZOFFSETFROM:-0400
TZOFFSETTO:-0500
TZNAME:EST
DTSTART:20261101T060000
END:STANDARD
BEGIN:DAYLIGHT
TZOFFSETFROM:-0500
TZOFFSETTO:-0400
TZNAME:EDT
DTSTART:20270314T070000
END:DAYLIGHT
BEGIN:STANDARD
TZOFFSETFROM:-0400
TZOFFSETTO:-0500
TZNAME:EST
DTSTART:20271107T060000
END:STANDARD
END:VTIMEZONE
BEGIN:VEVENT
DTSTART;TZID=America/New_York:20260523T200000
DTEND;TZID=America/New_York:20260523T200000
DTSTAMP:20260425T122424
CREATED:20260406T182351Z
LAST-MODIFIED:20260406T182351Z
UID:10000193-1779566400-1779566400@discovergloucester.com
SUMMARY:Booty Vortex
DESCRIPTION:Get ready! Some of the finest\, funkiest musicians from across New England have banded together to play the groovy tunes from the ’70s. These timeless disco\, funk songs will have you shakin’ what yo’ mama gave ya! And the heat these players/singers bring is guaranteed to knock you off your feet! If there’s a hole in your life\, if your dancing shoes are staring at you woefully from the back of the closet\, or if you just love to dance\, then you need to spend some time in the Vortex. Renew your spirit\, get your groove on\, and experience the power of Booty Vortex!
URL:https://discovergloucester.com/event/booty-vortex/
LOCATION:The Cut\, 177 Main Street\, Gloucester\, MA\, 01930\, United States
CATEGORIES:Live Music,Spring
ATTACH;FMTTYPE=image/avif:https://discovergloucester.com/wp-content/uploads/2026/04/Booty-Vortex-Spring-2026-700-x-500-px.jpg.avif
END:VEVENT
END:VCALENDAR