BEGIN:VCALENDAR
VERSION:2.0
PRODID:-//Discover Gloucester - ECPv6.15.20//NONSGML v1.0//EN
CALSCALE:GREGORIAN
METHOD:PUBLISH
X-ORIGINAL-URL:https://discovergloucester.com
X-WR-CALDESC:Events for Discover Gloucester
REFRESH-INTERVAL;VALUE=DURATION:PT1H
X-Robots-Tag:noindex
X-PUBLISHED-TTL:PT1H
BEGIN:VTIMEZONE
TZID:America/New_York
BEGIN:DAYLIGHT
TZOFFSETFROM:-0500
TZOFFSETTO:-0400
TZNAME:EDT
DTSTART:20250309T070000
END:DAYLIGHT
BEGIN:STANDARD
TZOFFSETFROM:-0400
TZOFFSETTO:-0500
TZNAME:EST
DTSTART:20251102T060000
END:STANDARD
BEGIN:DAYLIGHT
TZOFFSETFROM:-0500
TZOFFSETTO:-0400
TZNAME:EDT
DTSTART:20260308T070000
END:DAYLIGHT
BEGIN:STANDARD
TZOFFSETFROM:-0400
TZOFFSETTO:-0500
TZNAME:EST
DTSTART:20261101T060000
END:STANDARD
BEGIN:DAYLIGHT
TZOFFSETFROM:-0500
TZOFFSETTO:-0400
TZNAME:EDT
DTSTART:20270314T070000
END:DAYLIGHT
BEGIN:STANDARD
TZOFFSETFROM:-0400
TZOFFSETTO:-0500
TZNAME:EST
DTSTART:20271107T060000
END:STANDARD
END:VTIMEZONE
BEGIN:VEVENT
DTSTART;TZID=America/New_York:20260627T140000
DTEND;TZID=America/New_York:20260627T140000
DTSTAMP:20260425T122444
CREATED:20260406T162815Z
LAST-MODIFIED:20260406T162815Z
UID:10000136-1782568800-1782568800@discovergloucester.com
SUMMARY:Gloucester Stage presents BAD BOOKS by Sharyn Rothstein
DESCRIPTION:When a concerned mother finds her son with an “inappropriate” book\, an attempt to reason with the local librarian erupts into an explosive\, town-wide confrontation. As tensions rise and consequences escalate\, we learn that these women have more that connects them than what meets the eye. Bad Books explores the first impressions and raucous debates that divide us while forcing audiences to consider what it really means to care for our children. \nSharyn Rothstein’s poignant drama opens the 2026 Season with cunning humor and heartfelt dialogue in this regional-premiere directed by M. Bevin O’Garaº. Running from June 4 to 27\, all performances are at the Natti-Willsky Performance Center – 267 East Main Street\, Gloucester. Showtimes are Wednesdays – Saturdays at 7:30pm\, with matinees Saturdays & Sunday at 2:00pm.
URL:https://discovergloucester.com/event/gloucester-stage-presents-bad-books-by-sharyn-rothstein/2026-06-27/1/
LOCATION:Gloucester Stage\, 267 E Main Street\, Gloucester\, MA\, 01930\, United States
CATEGORIES:Spring
ATTACH;FMTTYPE=image/avif:https://discovergloucester.com/wp-content/uploads/2026/04/1_GSC-2026-Square-1080x1080-Bad-Books-logo-1024x1024.jpg.avif
END:VEVENT
BEGIN:VEVENT
DTSTART;TZID=America/New_York:20260627T190000
DTEND;TZID=America/New_York:20260627T210000
DTSTAMP:20260425T122444
CREATED:20260417T175552Z
LAST-MODIFIED:20260417T175552Z
UID:10000678-1782586800-1782594000@discovergloucester.com
SUMMARY:The Fools
DESCRIPTION:Great music\, performed by talented musicians\, with a hefty helping of comedy comes together in a unique charm that has been lighting up smiles for years. With extensive touring\, radio and video success and millions of records sold\, The Fools maintain their legendary status.
URL:https://discovergloucester.com/event/the-fools/
LOCATION:The Cut\, 177 Main Street\, Gloucester\, MA\, 01930\, United States
CATEGORIES:Live Music,Summer
ATTACH;FMTTYPE=image/png:https://discovergloucester.com/wp-content/uploads/2026/04/THE-FOOLS-POST-700-x-500-px.png
END:VEVENT
BEGIN:VEVENT
DTSTART;TZID=America/New_York:20260627T193000
DTEND;TZID=America/New_York:20260627T193000
DTSTAMP:20260425T122444
CREATED:20260406T162815Z
LAST-MODIFIED:20260406T162815Z
UID:10000137-1782588600-1782588600@discovergloucester.com
SUMMARY:Gloucester Stage presents BAD BOOKS by Sharyn Rothstein
DESCRIPTION:When a concerned mother finds her son with an “inappropriate” book\, an attempt to reason with the local librarian erupts into an explosive\, town-wide confrontation. As tensions rise and consequences escalate\, we learn that these women have more that connects them than what meets the eye. Bad Books explores the first impressions and raucous debates that divide us while forcing audiences to consider what it really means to care for our children. \nSharyn Rothstein’s poignant drama opens the 2026 Season with cunning humor and heartfelt dialogue in this regional-premiere directed by M. Bevin O’Garaº. Running from June 4 to 27\, all performances are at the Natti-Willsky Performance Center – 267 East Main Street\, Gloucester. Showtimes are Wednesdays – Saturdays at 7:30pm\, with matinees Saturdays & Sunday at 2:00pm.
URL:https://discovergloucester.com/event/gloucester-stage-presents-bad-books-by-sharyn-rothstein/2026-06-27/2/
LOCATION:Gloucester Stage\, 267 E Main Street\, Gloucester\, MA\, 01930\, United States
CATEGORIES:Spring
ATTACH;FMTTYPE=image/avif:https://discovergloucester.com/wp-content/uploads/2026/04/1_GSC-2026-Square-1080x1080-Bad-Books-logo-1024x1024.jpg.avif
END:VEVENT
END:VCALENDAR