BEGIN:VCALENDAR
VERSION:2.0
PRODID:-//Discover Gloucester - ECPv6.15.20//NONSGML v1.0//EN
CALSCALE:GREGORIAN
METHOD:PUBLISH
X-ORIGINAL-URL:https://discovergloucester.com
X-WR-CALDESC:Events for Discover Gloucester
REFRESH-INTERVAL;VALUE=DURATION:PT1H
X-Robots-Tag:noindex
X-PUBLISHED-TTL:PT1H
BEGIN:VTIMEZONE
TZID:America/New_York
BEGIN:DAYLIGHT
TZOFFSETFROM:-0500
TZOFFSETTO:-0400
TZNAME:EDT
DTSTART:20250309T070000
END:DAYLIGHT
BEGIN:STANDARD
TZOFFSETFROM:-0400
TZOFFSETTO:-0500
TZNAME:EST
DTSTART:20251102T060000
END:STANDARD
BEGIN:DAYLIGHT
TZOFFSETFROM:-0500
TZOFFSETTO:-0400
TZNAME:EDT
DTSTART:20260308T070000
END:DAYLIGHT
BEGIN:STANDARD
TZOFFSETFROM:-0400
TZOFFSETTO:-0500
TZNAME:EST
DTSTART:20261101T060000
END:STANDARD
BEGIN:DAYLIGHT
TZOFFSETFROM:-0500
TZOFFSETTO:-0400
TZNAME:EDT
DTSTART:20270314T070000
END:DAYLIGHT
BEGIN:STANDARD
TZOFFSETFROM:-0400
TZOFFSETTO:-0500
TZNAME:EST
DTSTART:20271107T060000
END:STANDARD
END:VTIMEZONE
BEGIN:VEVENT
DTSTART;VALUE=DATE:20260516
DTEND;VALUE=DATE:20260517
DTSTAMP:20260422T095833
CREATED:20260406T181331Z
LAST-MODIFIED:20260406T181331Z
UID:10000190-1778889600-1778975999@discovergloucester.com
SUMMARY:Motif No. 1 Day
DESCRIPTION:Join us for Motif No. 1 Day as we celebrate Rockport’s unique identity as both a historic fishing village and a vibrant artist destination. Centered around the iconic red fishing shack—long a favorite subject for painters and photographers—this beloved annual event brings together the very spirit of Rockport: coastal beauty\, creative energy\, and community pride. \nStroll through town as artists set up along the harbor capturing Motif No. 1 and Rockport’s stunning waterfront in real time. Enjoy live music\, street performances\, family-friendly art activities\, and pop-up experiences that unfold throughout the day. From Dock Square to Bearskin Neck and beyond\, there’s always something happening just around the corner. \nExplore galleries\, discover local shops\, and experience the charm that has inspired generations of artists. Whether you’re watching a painting come to life\, enjoying a performance\, or simply taking in the view\, Motif No. 1 Day invites you to slow down\, look closer\, and connect with what makes Rockport so special.
URL:https://discovergloucester.com/event/motif-no-1-day/
LOCATION:Downtown Rockport\, Rockport\, MA\, 01930\, United States
CATEGORIES:Festivals,Free,Spring
ATTACH;FMTTYPE=image/avif:https://discovergloucester.com/wp-content/uploads/2026/04/2026-Motif-No-1-Header-1024x255.jpg.avif
END:VEVENT
BEGIN:VEVENT
DTSTART;VALUE=DATE:20261003
DTEND;VALUE=DATE:20261004
DTSTAMP:20260422T095833
CREATED:20260212T140803Z
LAST-MODIFIED:20260212T140803Z
UID:10000026-1790985600-1791071999@discovergloucester.com
SUMMARY:Cape Ann Plein Air
DESCRIPTION:Celebrate the 10th anniversary of Cape Ann Plein Air\, October 3–11\, 2026\, a beloved annual festival welcoming artists to paint Gloucester and Cape Ann en plein air. Enjoy live painting\, special exhibitions\, artist demos\, and opportunities to meet and collect work from participating painters. A must-see week for art lovers and visitors alike!
URL:https://discovergloucester.com/event/cape-ann-plein-air/2026-10-03/
LOCATION:Locations Vary
CATEGORIES:Fall,Festivals
ATTACH;FMTTYPE=image/jpeg:https://discovergloucester.com/wp-content/uploads/2026/02/cape-ann-plein-air.jpg
END:VEVENT
BEGIN:VEVENT
DTSTART;VALUE=DATE:20261004
DTEND;VALUE=DATE:20261005
DTSTAMP:20260422T095833
CREATED:20260212T140803Z
LAST-MODIFIED:20260212T140803Z
UID:10000027-1791072000-1791158399@discovergloucester.com
SUMMARY:Cape Ann Plein Air
DESCRIPTION:Celebrate the 10th anniversary of Cape Ann Plein Air\, October 3–11\, 2026\, a beloved annual festival welcoming artists to paint Gloucester and Cape Ann en plein air. Enjoy live painting\, special exhibitions\, artist demos\, and opportunities to meet and collect work from participating painters. A must-see week for art lovers and visitors alike!
URL:https://discovergloucester.com/event/cape-ann-plein-air/2026-10-04/
LOCATION:Locations Vary
CATEGORIES:Fall,Festivals
ATTACH;FMTTYPE=image/jpeg:https://discovergloucester.com/wp-content/uploads/2026/02/cape-ann-plein-air.jpg
END:VEVENT
BEGIN:VEVENT
DTSTART;VALUE=DATE:20261005
DTEND;VALUE=DATE:20261006
DTSTAMP:20260422T095833
CREATED:20260212T140803Z
LAST-MODIFIED:20260212T140803Z
UID:10000028-1791158400-1791244799@discovergloucester.com
SUMMARY:Cape Ann Plein Air
DESCRIPTION:Celebrate the 10th anniversary of Cape Ann Plein Air\, October 3–11\, 2026\, a beloved annual festival welcoming artists to paint Gloucester and Cape Ann en plein air. Enjoy live painting\, special exhibitions\, artist demos\, and opportunities to meet and collect work from participating painters. A must-see week for art lovers and visitors alike!
URL:https://discovergloucester.com/event/cape-ann-plein-air/2026-10-05/
LOCATION:Locations Vary
CATEGORIES:Fall,Festivals
ATTACH;FMTTYPE=image/jpeg:https://discovergloucester.com/wp-content/uploads/2026/02/cape-ann-plein-air.jpg
END:VEVENT
BEGIN:VEVENT
DTSTART;VALUE=DATE:20261006
DTEND;VALUE=DATE:20261007
DTSTAMP:20260422T095833
CREATED:20260212T140803Z
LAST-MODIFIED:20260212T140803Z
UID:10000029-1791244800-1791331199@discovergloucester.com
SUMMARY:Cape Ann Plein Air
DESCRIPTION:Celebrate the 10th anniversary of Cape Ann Plein Air\, October 3–11\, 2026\, a beloved annual festival welcoming artists to paint Gloucester and Cape Ann en plein air. Enjoy live painting\, special exhibitions\, artist demos\, and opportunities to meet and collect work from participating painters. A must-see week for art lovers and visitors alike!
URL:https://discovergloucester.com/event/cape-ann-plein-air/2026-10-06/
LOCATION:Locations Vary
CATEGORIES:Fall,Festivals
ATTACH;FMTTYPE=image/jpeg:https://discovergloucester.com/wp-content/uploads/2026/02/cape-ann-plein-air.jpg
END:VEVENT
BEGIN:VEVENT
DTSTART;VALUE=DATE:20261007
DTEND;VALUE=DATE:20261008
DTSTAMP:20260422T095833
CREATED:20260212T140803Z
LAST-MODIFIED:20260212T140803Z
UID:10000030-1791331200-1791417599@discovergloucester.com
SUMMARY:Cape Ann Plein Air
DESCRIPTION:Celebrate the 10th anniversary of Cape Ann Plein Air\, October 3–11\, 2026\, a beloved annual festival welcoming artists to paint Gloucester and Cape Ann en plein air. Enjoy live painting\, special exhibitions\, artist demos\, and opportunities to meet and collect work from participating painters. A must-see week for art lovers and visitors alike!
URL:https://discovergloucester.com/event/cape-ann-plein-air/2026-10-07/
LOCATION:Locations Vary
CATEGORIES:Fall,Festivals
ATTACH;FMTTYPE=image/jpeg:https://discovergloucester.com/wp-content/uploads/2026/02/cape-ann-plein-air.jpg
END:VEVENT
BEGIN:VEVENT
DTSTART;VALUE=DATE:20261008
DTEND;VALUE=DATE:20261009
DTSTAMP:20260422T095833
CREATED:20260212T140803Z
LAST-MODIFIED:20260212T140803Z
UID:10000031-1791417600-1791503999@discovergloucester.com
SUMMARY:Cape Ann Plein Air
DESCRIPTION:Celebrate the 10th anniversary of Cape Ann Plein Air\, October 3–11\, 2026\, a beloved annual festival welcoming artists to paint Gloucester and Cape Ann en plein air. Enjoy live painting\, special exhibitions\, artist demos\, and opportunities to meet and collect work from participating painters. A must-see week for art lovers and visitors alike!
URL:https://discovergloucester.com/event/cape-ann-plein-air/2026-10-08/
LOCATION:Locations Vary
CATEGORIES:Fall,Festivals
ATTACH;FMTTYPE=image/jpeg:https://discovergloucester.com/wp-content/uploads/2026/02/cape-ann-plein-air.jpg
END:VEVENT
BEGIN:VEVENT
DTSTART;VALUE=DATE:20261009
DTEND;VALUE=DATE:20261010
DTSTAMP:20260422T095833
CREATED:20260212T140803Z
LAST-MODIFIED:20260212T140803Z
UID:10000032-1791504000-1791590399@discovergloucester.com
SUMMARY:Cape Ann Plein Air
DESCRIPTION:Celebrate the 10th anniversary of Cape Ann Plein Air\, October 3–11\, 2026\, a beloved annual festival welcoming artists to paint Gloucester and Cape Ann en plein air. Enjoy live painting\, special exhibitions\, artist demos\, and opportunities to meet and collect work from participating painters. A must-see week for art lovers and visitors alike!
URL:https://discovergloucester.com/event/cape-ann-plein-air/2026-10-09/
LOCATION:Locations Vary
CATEGORIES:Fall,Festivals
ATTACH;FMTTYPE=image/jpeg:https://discovergloucester.com/wp-content/uploads/2026/02/cape-ann-plein-air.jpg
END:VEVENT
BEGIN:VEVENT
DTSTART;VALUE=DATE:20261010
DTEND;VALUE=DATE:20261011
DTSTAMP:20260422T095833
CREATED:20260212T140803Z
LAST-MODIFIED:20260212T140803Z
UID:10000033-1791590400-1791676799@discovergloucester.com
SUMMARY:Cape Ann Plein Air
DESCRIPTION:Celebrate the 10th anniversary of Cape Ann Plein Air\, October 3–11\, 2026\, a beloved annual festival welcoming artists to paint Gloucester and Cape Ann en plein air. Enjoy live painting\, special exhibitions\, artist demos\, and opportunities to meet and collect work from participating painters. A must-see week for art lovers and visitors alike!
URL:https://discovergloucester.com/event/cape-ann-plein-air/2026-10-10/
LOCATION:Locations Vary
CATEGORIES:Fall,Festivals
ATTACH;FMTTYPE=image/jpeg:https://discovergloucester.com/wp-content/uploads/2026/02/cape-ann-plein-air.jpg
END:VEVENT
BEGIN:VEVENT
DTSTART;VALUE=DATE:20261011
DTEND;VALUE=DATE:20261012
DTSTAMP:20260422T095833
CREATED:20260212T140803Z
LAST-MODIFIED:20260212T140803Z
UID:10000034-1791676800-1791763199@discovergloucester.com
SUMMARY:Cape Ann Plein Air
DESCRIPTION:Celebrate the 10th anniversary of Cape Ann Plein Air\, October 3–11\, 2026\, a beloved annual festival welcoming artists to paint Gloucester and Cape Ann en plein air. Enjoy live painting\, special exhibitions\, artist demos\, and opportunities to meet and collect work from participating painters. A must-see week for art lovers and visitors alike!
URL:https://discovergloucester.com/event/cape-ann-plein-air/2026-10-11/
LOCATION:Locations Vary
CATEGORIES:Fall,Festivals
ATTACH;FMTTYPE=image/jpeg:https://discovergloucester.com/wp-content/uploads/2026/02/cape-ann-plein-air.jpg
END:VEVENT
END:VCALENDAR