BEGIN:VCALENDAR
VERSION:2.0
PRODID:-//Discover Gloucester - ECPv6.15.20//NONSGML v1.0//EN
CALSCALE:GREGORIAN
METHOD:PUBLISH
X-WR-CALNAME:Discover Gloucester
X-ORIGINAL-URL:https://discovergloucester.com
X-WR-CALDESC:Events for Discover Gloucester
REFRESH-INTERVAL;VALUE=DURATION:PT1H
X-Robots-Tag:noindex
X-PUBLISHED-TTL:PT1H
BEGIN:VTIMEZONE
TZID:America/New_York
BEGIN:DAYLIGHT
TZOFFSETFROM:-0500
TZOFFSETTO:-0400
TZNAME:EDT
DTSTART:20250309T070000
END:DAYLIGHT
BEGIN:STANDARD
TZOFFSETFROM:-0400
TZOFFSETTO:-0500
TZNAME:EST
DTSTART:20251102T060000
END:STANDARD
BEGIN:DAYLIGHT
TZOFFSETFROM:-0500
TZOFFSETTO:-0400
TZNAME:EDT
DTSTART:20260308T070000
END:DAYLIGHT
BEGIN:STANDARD
TZOFFSETFROM:-0400
TZOFFSETTO:-0500
TZNAME:EST
DTSTART:20261101T060000
END:STANDARD
BEGIN:DAYLIGHT
TZOFFSETFROM:-0500
TZOFFSETTO:-0400
TZNAME:EDT
DTSTART:20270314T070000
END:DAYLIGHT
BEGIN:STANDARD
TZOFFSETFROM:-0400
TZOFFSETTO:-0500
TZNAME:EST
DTSTART:20271107T060000
END:STANDARD
END:VTIMEZONE
BEGIN:VEVENT
DTSTART;TZID=America/New_York:20260423T183000
DTEND;TZID=America/New_York:20260423T220000
DTSTAMP:20260421T044614
CREATED:20260403T191409Z
LAST-MODIFIED:20260403T191409Z
UID:10000088-1776969000-1776981600@discovergloucester.com
SUMMARY:The Clements Brothers
DESCRIPTION:The Clements Brothers are George (guitar) and Charles (upright bass)\, identical twins from the heart of New England. The two have been playing and writing music together for as long as they can remember\, first entering the Americana music scene in 2012 as part of the internationally touring grass-roots band\, ‘The Lonely Heartstring Band\,’ with whom they put out two albums on Rounder Records. Most recently\, George could be found playing the role of Paul Simon in the hit national act ‘The Simon and Garfunkel Story’ while Charles could often be found on stage with the Boston Symphony Orchestra. Now\, ‘The Clements Brothers’ marks their first original project together\, focused on capturing their singer-songwriter sensibilities in a unique blend\, with harmonies only achievable by their identical voices\, at once enthralling and intimate\, groovy and serene.
URL:https://discovergloucester.com/event/the-clements-brothers/
LOCATION:The Cut\, 177 Main Street\, Gloucester\, MA\, 01930\, United States
CATEGORIES:Live Music
ATTACH;FMTTYPE=image/avif:https://discovergloucester.com/wp-content/uploads/2026/04/THE-CLEMENTS-BROTHERS-700-x-500-px.jpg.avif
END:VEVENT
END:VCALENDAR