BEGIN:VCALENDAR
VERSION:2.0
PRODID:-//Discover Gloucester - ECPv6.15.20//NONSGML v1.0//EN
CALSCALE:GREGORIAN
METHOD:PUBLISH
X-ORIGINAL-URL:https://discovergloucester.com
X-WR-CALDESC:Events for Discover Gloucester
REFRESH-INTERVAL;VALUE=DURATION:PT1H
X-Robots-Tag:noindex
X-PUBLISHED-TTL:PT1H
BEGIN:VTIMEZONE
TZID:America/New_York
BEGIN:DAYLIGHT
TZOFFSETFROM:-0500
TZOFFSETTO:-0400
TZNAME:EDT
DTSTART:20250309T070000
END:DAYLIGHT
BEGIN:STANDARD
TZOFFSETFROM:-0400
TZOFFSETTO:-0500
TZNAME:EST
DTSTART:20251102T060000
END:STANDARD
BEGIN:DAYLIGHT
TZOFFSETFROM:-0500
TZOFFSETTO:-0400
TZNAME:EDT
DTSTART:20260308T070000
END:DAYLIGHT
BEGIN:STANDARD
TZOFFSETFROM:-0400
TZOFFSETTO:-0500
TZNAME:EST
DTSTART:20261101T060000
END:STANDARD
BEGIN:DAYLIGHT
TZOFFSETFROM:-0500
TZOFFSETTO:-0400
TZNAME:EDT
DTSTART:20270314T070000
END:DAYLIGHT
BEGIN:STANDARD
TZOFFSETFROM:-0400
TZOFFSETTO:-0500
TZNAME:EST
DTSTART:20271107T060000
END:STANDARD
END:VTIMEZONE
BEGIN:VEVENT
DTSTART;TZID=America/New_York:20260425T200000
DTEND;TZID=America/New_York:20260425T200000
DTSTAMP:20260421T062858
CREATED:20260403T192038Z
LAST-MODIFIED:20260403T192038Z
UID:10000089-1777147200-1777147200@discovergloucester.com
SUMMARY:The Warped Tour Band with All The Blink Things and Fake Out Boy
DESCRIPTION:The Warped Tour Band\nPerforming all your favorite Emo/pop-punk songs LIVE by artists like: Taking Back Sunday\, My Chemical Romance\, Blink-182\, New Found Glory\, Green Day\, Good Charlotte\, Sum 41\, Fall Out Boy\, Yellow Card\, The Used\, Brand New and everything in between! \nAll The Blink Things\nThe east coast’s most authentic Blink-182 tribute band paying homage to the major hits\, deep cuts and fan favorites from the most iconic punk pop-punk band! \nFake Out Boy\nFake Out Boy serves up the classic hits from Fall Out Boy’s rise to fame era from Sugar We’re Going Down to This Ain’t A Scene\, It’s An Arms Race. You’ll be saying “Thnks fr The Mmrs” after their set!
URL:https://discovergloucester.com/event/the-warped-tour-band-with-all-the-blink-things-and-fake-out-boy/
LOCATION:The Cut\, 177 Main Street\, Gloucester\, MA\, 01930\, United States
CATEGORIES:Live Music
ATTACH;FMTTYPE=image/avif:https://discovergloucester.com/wp-content/uploads/2026/04/Warped-Tour-2026-700-x-500-px.jpg.avif
END:VEVENT
END:VCALENDAR