BEGIN:VCALENDAR
VERSION:2.0
PRODID:-//Discover Gloucester - ECPv6.15.20//NONSGML v1.0//EN
CALSCALE:GREGORIAN
METHOD:PUBLISH
X-WR-CALNAME:Discover Gloucester
X-ORIGINAL-URL:https://discovergloucester.com
X-WR-CALDESC:Events for Discover Gloucester
REFRESH-INTERVAL;VALUE=DURATION:PT1H
X-Robots-Tag:noindex
X-PUBLISHED-TTL:PT1H
BEGIN:VTIMEZONE
TZID:America/New_York
BEGIN:DAYLIGHT
TZOFFSETFROM:-0500
TZOFFSETTO:-0400
TZNAME:EDT
DTSTART:20250309T070000
END:DAYLIGHT
BEGIN:STANDARD
TZOFFSETFROM:-0400
TZOFFSETTO:-0500
TZNAME:EST
DTSTART:20251102T060000
END:STANDARD
BEGIN:DAYLIGHT
TZOFFSETFROM:-0500
TZOFFSETTO:-0400
TZNAME:EDT
DTSTART:20260308T070000
END:DAYLIGHT
BEGIN:STANDARD
TZOFFSETFROM:-0400
TZOFFSETTO:-0500
TZNAME:EST
DTSTART:20261101T060000
END:STANDARD
BEGIN:DAYLIGHT
TZOFFSETFROM:-0500
TZOFFSETTO:-0400
TZNAME:EDT
DTSTART:20270314T070000
END:DAYLIGHT
BEGIN:STANDARD
TZOFFSETFROM:-0400
TZOFFSETTO:-0500
TZNAME:EST
DTSTART:20271107T060000
END:STANDARD
END:VTIMEZONE
BEGIN:VEVENT
DTSTART;TZID=America/New_York:20260509T200000
DTEND;TZID=America/New_York:20260509T220000
DTSTAMP:20260423T050159
CREATED:20260403T194213Z
LAST-MODIFIED:20260403T194213Z
UID:10000095-1778356800-1778364000@discovergloucester.com
SUMMARY:Everybody Wants Some – A Tribute to Van Halen
DESCRIPTION:“Everybody Wants Some” is the ultimate tribute to the legendary Van Halen\, dedicated exclusively to the electrifying David Lee Roth era. With a reputation for delivering high-octane performances\, this band is rapidly becoming the go-to act for Van Halen fans and talent buyers alike. \nAt the heart of their sound is “Shreddy\,” whose guitar prowess channels the iconic Eddie Van Halen with jaw-dropping accuracy. His shredding skills\, combined with the band’s uncanny stage presence\, transport audiences back to the golden age of rock. Fans can expect to hear all the hits and classic album tracks that defined a generation\, performed with the energy and precision that Van Halen themselves would be proud of. \n“Everybody Wants Some” is not just another tribute band; they are the real deal. With a year’s worth of high-quality content about to be unleashed\, they are poised to prove why they are a premier talent in the tribute band game. Already a top draw in New England\, the band is setting their sights on national stages\, building their credibility one show at a time. Whether you’re a booking agent\, talent buyer\, or a die-hard Van Halen fan\, “Everybody Wants Some” delivers a concert experience that is second to none.
URL:https://discovergloucester.com/event/everybody-wants-some-a-tribute-to-van-halen/
LOCATION:The Cut\, 177 Main Street\, Gloucester\, MA\, 01930\, United States
CATEGORIES:Live Music
ATTACH;FMTTYPE=image/avif:https://discovergloucester.com/wp-content/uploads/2026/04/EVERYBODY-WANTS-SOME-700-x-500-px.jpg.avif
END:VEVENT
END:VCALENDAR