BEGIN:VCALENDAR
VERSION:2.0
PRODID:-//Discover Gloucester - ECPv6.15.20//NONSGML v1.0//EN
CALSCALE:GREGORIAN
METHOD:PUBLISH
X-WR-CALNAME:Discover Gloucester
X-ORIGINAL-URL:https://discovergloucester.com
X-WR-CALDESC:Events for Discover Gloucester
REFRESH-INTERVAL;VALUE=DURATION:PT1H
X-Robots-Tag:noindex
X-PUBLISHED-TTL:PT1H
BEGIN:VTIMEZONE
TZID:America/New_York
BEGIN:DAYLIGHT
TZOFFSETFROM:-0500
TZOFFSETTO:-0400
TZNAME:EDT
DTSTART:20250309T070000
END:DAYLIGHT
BEGIN:STANDARD
TZOFFSETFROM:-0400
TZOFFSETTO:-0500
TZNAME:EST
DTSTART:20251102T060000
END:STANDARD
BEGIN:DAYLIGHT
TZOFFSETFROM:-0500
TZOFFSETTO:-0400
TZNAME:EDT
DTSTART:20260308T070000
END:DAYLIGHT
BEGIN:STANDARD
TZOFFSETFROM:-0400
TZOFFSETTO:-0500
TZNAME:EST
DTSTART:20261101T060000
END:STANDARD
BEGIN:DAYLIGHT
TZOFFSETFROM:-0500
TZOFFSETTO:-0400
TZNAME:EDT
DTSTART:20270314T070000
END:DAYLIGHT
BEGIN:STANDARD
TZOFFSETFROM:-0400
TZOFFSETTO:-0500
TZNAME:EST
DTSTART:20271107T060000
END:STANDARD
END:VTIMEZONE
BEGIN:VEVENT
DTSTART;TZID=America/New_York:20260524T193000
DTEND;TZID=America/New_York:20260524T193000
DTSTAMP:20260423T080001
CREATED:20260406T182641Z
LAST-MODIFIED:20260406T182641Z
UID:10000194-1779651000-1779651000@discovergloucester.com
SUMMARY:Jimmy Tingle: Humor and Hope for Humanity
DESCRIPTION:In Humor and Hope for Humanity\, Jimmy takes us on a very funny and soul-searching journey from his Boston roots as an aspiring comic and street performer to network television\, Harvard\, a run for political office and up to the present 2026 moment. \n– Humorist for 60 Minutes II\n– Harvard Commencement Speaker\n– Three time “Best of Boston” Winner \nAs seen on HBO\, PBS\, NPR\, FOX\, MSNBC\, 60 Minutes\, and Comedy Central \n“Jimmy Tingle is a master storyteller! His humor\, wit and intelligence shine. His story is not just about laughter; it’s a testament to the power of humor as a tool for change.”\n– Yani Perez\, all about SOLO \nCritical Acclaim for Jimmy’s First Solo Show\, “Uncommon Sense”:\n“More than a comic wit…so cheerfully intelligent that he makes his audience optimistic in the face of reality.”\n– The New York Times \n“No Cheap Shots\, Just “Sense.” Jimmy Tingle’s one-man show doesn’t capitalize on political crisis. Instead his uplifting Uncommon Sense draws honest laughs.”\n– Los Angeles Times
URL:https://discovergloucester.com/event/jimmy-tingle-humor-and-hope-for-humanity/
LOCATION:The Cut\, 177 Main Street\, Gloucester\, MA\, 01930\, United States
CATEGORIES:Live Music,Spring
ATTACH;FMTTYPE=image/avif:https://discovergloucester.com/wp-content/uploads/2026/04/JIMMY-TINGLE-700-x-500-px-1.jpg.avif
END:VEVENT
END:VCALENDAR