BEGIN:VCALENDAR
VERSION:2.0
PRODID:-//Discover Gloucester - ECPv6.15.20//NONSGML v1.0//EN
CALSCALE:GREGORIAN
METHOD:PUBLISH
X-ORIGINAL-URL:https://discovergloucester.com
X-WR-CALDESC:Events for Discover Gloucester
REFRESH-INTERVAL;VALUE=DURATION:PT1H
X-Robots-Tag:noindex
X-PUBLISHED-TTL:PT1H
BEGIN:VTIMEZONE
TZID:America/New_York
BEGIN:DAYLIGHT
TZOFFSETFROM:-0500
TZOFFSETTO:-0400
TZNAME:EDT
DTSTART:20250309T070000
END:DAYLIGHT
BEGIN:STANDARD
TZOFFSETFROM:-0400
TZOFFSETTO:-0500
TZNAME:EST
DTSTART:20251102T060000
END:STANDARD
BEGIN:DAYLIGHT
TZOFFSETFROM:-0500
TZOFFSETTO:-0400
TZNAME:EDT
DTSTART:20260308T070000
END:DAYLIGHT
BEGIN:STANDARD
TZOFFSETFROM:-0400
TZOFFSETTO:-0500
TZNAME:EST
DTSTART:20261101T060000
END:STANDARD
BEGIN:DAYLIGHT
TZOFFSETFROM:-0500
TZOFFSETTO:-0400
TZNAME:EDT
DTSTART:20270314T070000
END:DAYLIGHT
BEGIN:STANDARD
TZOFFSETFROM:-0400
TZOFFSETTO:-0500
TZNAME:EST
DTSTART:20271107T060000
END:STANDARD
END:VTIMEZONE
BEGIN:VEVENT
DTSTART;TZID=America/New_York:20260625T200000
DTEND;TZID=America/New_York:20260625T220000
DTSTAMP:20260425T122715
CREATED:20260406T190804Z
LAST-MODIFIED:20260406T190804Z
UID:10000206-1782417600-1782424800@discovergloucester.com
SUMMARY:Super 70’s Rock Show with Super Trans Am
DESCRIPTION:Thursday 6/25/26\nDoors 7:00pm\nShow 8:00pm\n21+\, Positive ID Required\nPremium Seating with cocktail service: $39.50-$44.50 + $6.95 service fee\nStandard Seating with cocktail service: $34.50 + $6.95 serivce fee\nRear Floor Seating: $29.50 + $6.95 service fee\nGA Standing: $24.50 + $6.95 service fee \n+ $5 Day of Show \nRoll down your windows\, crank up the radio\, and take a ride in a Super Trans AM. Super Trans Am is a unique and innovative theme band\, playing all of your favorite arena anthems and chart-topping radio hits of the 1970’s. Combining unparalleled musicianship with artistic and inspired A/V production\, you’ll enjoy revisiting classic singalongs from one of the most definable decades in American history. Performing masterworks from icons such as The Eagles\, Hall & Oates\, Queen\, The Doobie Brothers\, Paul McCartney & Wings\, Peter Frampton\, Foreigner\, Kiss\, Boston and Journey as well as “Yacht Rock” favorites such as “Still the One” by Orleans and Pilot’s “Magic”\, you will fall in love with this epic decade of memorable music all over again. In addition to every member of the band taking the lead vocal mic throughout the evening\, each show is accompanied by state of the art video and stage production that pays homage to the era’s unique pop culture. It’s time to dust off your flared jeans\, break out the air guitar and take a trip back to the days when Welcome Back Kotter and Happy Days kept us glued to our televisions\, Gerald Ford and Jimmy Carter led our nation\, kids jumped Evil Kneivel toys over their Matchbox cars and these timeless songs became the soundtrack to our lives.
URL:https://discovergloucester.com/event/super-70s-rock-show-with-super-trans-am/
LOCATION:The Cut\, 177 Main Street\, Gloucester\, MA\, 01930\, United States
CATEGORIES:Live Music,Summer
ATTACH;FMTTYPE=image/avif:https://discovergloucester.com/wp-content/uploads/2026/04/Super-70s-2026-700-x-500-px.jpg.avif
END:VEVENT
END:VCALENDAR