BEGIN:VCALENDAR
VERSION:2.0
PRODID:-//Discover Gloucester - ECPv6.15.20//NONSGML v1.0//EN
CALSCALE:GREGORIAN
METHOD:PUBLISH
X-ORIGINAL-URL:https://discovergloucester.com
X-WR-CALDESC:Events for Discover Gloucester
REFRESH-INTERVAL;VALUE=DURATION:PT1H
X-Robots-Tag:noindex
X-PUBLISHED-TTL:PT1H
BEGIN:VTIMEZONE
TZID:America/New_York
BEGIN:DAYLIGHT
TZOFFSETFROM:-0500
TZOFFSETTO:-0400
TZNAME:EDT
DTSTART:20250309T070000
END:DAYLIGHT
BEGIN:STANDARD
TZOFFSETFROM:-0400
TZOFFSETTO:-0500
TZNAME:EST
DTSTART:20251102T060000
END:STANDARD
BEGIN:DAYLIGHT
TZOFFSETFROM:-0500
TZOFFSETTO:-0400
TZNAME:EDT
DTSTART:20260308T070000
END:DAYLIGHT
BEGIN:STANDARD
TZOFFSETFROM:-0400
TZOFFSETTO:-0500
TZNAME:EST
DTSTART:20261101T060000
END:STANDARD
BEGIN:DAYLIGHT
TZOFFSETFROM:-0500
TZOFFSETTO:-0400
TZNAME:EDT
DTSTART:20270314T070000
END:DAYLIGHT
BEGIN:STANDARD
TZOFFSETFROM:-0400
TZOFFSETTO:-0500
TZNAME:EST
DTSTART:20271107T060000
END:STANDARD
END:VTIMEZONE
BEGIN:VEVENT
DTSTART;TZID=America/New_York:20260719T180000
DTEND;TZID=America/New_York:20260719T210000
DTSTAMP:20260421T084608
CREATED:20260417T175727Z
LAST-MODIFIED:20260417T175727Z
UID:10000680-1784484000-1784494800@discovergloucester.com
SUMMARY:DVinci Soul
DESCRIPTION:Get ready to DANCE to DVINCI SOUL\, Boston Globe’s pick for one of Boston’s finest Motown and Soul bands! \nWe are excited to bring back Boston-based DVinci Soul\, whose funky rhythm section\, lively horns and soulful harmonies have been filling our dance floor since we first opened. Led by Lanesville resident\, Debra Vinci\, DVinci Soul has incredible energy that consistently inspires people of all ages to get up and dance to their own brand of Motown\, Soul and R&B classics. You’ll hear three powerful lead vocalists and really tight arrangements of familiar tunes and deep cuts from Stevie Wonder\, Aretha\, Marvin Gaye\, EWF\, Tower of Power and Chaka Khan as well as LakeStreet Dive\, Amy Winehouse\, Joss Stone\, Lake Street Dive\, and the California Honeydrops. \nDVinci Soul’mates include Debra Vinci on vocals\, Chris Leadbetter on guitar and vocals\, David Fuller on drums and vocals \, Jeff Garmel on saxophone\, Bob Pilkington on trombone\, and Richard Hale Shaw on bass. \n”DVinci Soul is a really fun band! They’ve got great harmonies\, fabulous horns\, and an incredible choice of Motown and classic soul songs. I’d recommend them for any event or for a fun night out dancing.” \n— Margery Eagan\,\nco-host of 89.7 WGBH’s Boston Public Radio radio show.
URL:https://discovergloucester.com/event/dvinci-soul/
LOCATION:The Cut\, 177 Main Street\, Gloucester\, MA\, 01930\, United States
CATEGORIES:Live Music,Summer
ATTACH;FMTTYPE=image/png:https://discovergloucester.com/wp-content/uploads/2026/04/DVinci-Soul-POST-2026-700-x-500-px.png
END:VEVENT
END:VCALENDAR