BEGIN:VCALENDAR
VERSION:2.0
PRODID:-//Discover Gloucester - ECPv6.15.20//NONSGML v1.0//EN
CALSCALE:GREGORIAN
METHOD:PUBLISH
X-WR-CALNAME:Discover Gloucester
X-ORIGINAL-URL:https://discovergloucester.com
X-WR-CALDESC:Events for Discover Gloucester
REFRESH-INTERVAL;VALUE=DURATION:PT1H
X-Robots-Tag:noindex
X-PUBLISHED-TTL:PT1H
BEGIN:VTIMEZONE
TZID:America/New_York
BEGIN:DAYLIGHT
TZOFFSETFROM:-0500
TZOFFSETTO:-0400
TZNAME:EDT
DTSTART:20250309T070000
END:DAYLIGHT
BEGIN:STANDARD
TZOFFSETFROM:-0400
TZOFFSETTO:-0500
TZNAME:EST
DTSTART:20251102T060000
END:STANDARD
BEGIN:DAYLIGHT
TZOFFSETFROM:-0500
TZOFFSETTO:-0400
TZNAME:EDT
DTSTART:20260308T070000
END:DAYLIGHT
BEGIN:STANDARD
TZOFFSETFROM:-0400
TZOFFSETTO:-0500
TZNAME:EST
DTSTART:20261101T060000
END:STANDARD
BEGIN:DAYLIGHT
TZOFFSETFROM:-0500
TZOFFSETTO:-0400
TZNAME:EDT
DTSTART:20270314T070000
END:DAYLIGHT
BEGIN:STANDARD
TZOFFSETFROM:-0400
TZOFFSETTO:-0500
TZNAME:EST
DTSTART:20271107T060000
END:STANDARD
END:VTIMEZONE
BEGIN:VEVENT
DTSTART;TZID=America/New_York:20260725T190000
DTEND;TZID=America/New_York:20260725T220000
DTSTAMP:20260421T050506
CREATED:20260406T193418Z
LAST-MODIFIED:20260406T193418Z
UID:10000666-1785006000-1785016800@discovergloucester.com
SUMMARY:The Troubadours
DESCRIPTION:After a triumphant return to the stage 2025\, iconic North Shore rock band The Troubadours are back this July for a 2026 reunion show! They will be joined for this year’s event by old friends junegroove and Courtney Reid. Known for their energetic live shows\, The Troubadours built a significant following in Boston and beyond during their 10-year run between 1995-2005. And their recent reunion shows suggest a new trend forming. “It’s not an annual tradition just yet\,” says Troubadours lead singer Adam Caress. “But last year’s show was so much fun that we’re excited to be back on stage in Gloucester again this summer.”
URL:https://discovergloucester.com/event/the-troubadours/
LOCATION:The Cut\, 177 Main Street\, Gloucester\, MA\, 01930\, United States
CATEGORIES:Live Music,Summer
ATTACH;FMTTYPE=image/avif:https://discovergloucester.com/wp-content/uploads/2026/04/TROUBADOURS-700-x-500-px.jpg.avif
END:VEVENT
END:VCALENDAR