BEGIN:VCALENDAR
VERSION:2.0
PRODID:-//Discover Gloucester - ECPv6.15.20//NONSGML v1.0//EN
CALSCALE:GREGORIAN
METHOD:PUBLISH
X-ORIGINAL-URL:https://discovergloucester.com
X-WR-CALDESC:Events for Discover Gloucester
REFRESH-INTERVAL;VALUE=DURATION:PT1H
X-Robots-Tag:noindex
X-PUBLISHED-TTL:PT1H
BEGIN:VTIMEZONE
TZID:UTC
BEGIN:STANDARD
TZOFFSETFROM:+0000
TZOFFSETTO:+0000
TZNAME:UTC
DTSTART:20250101T000000
END:STANDARD
END:VTIMEZONE
BEGIN:VEVENT
DTSTART;TZID=UTC:20260201T160000
DTEND;TZID=UTC:20260201T180000
DTSTAMP:20260425T183952
CREATED:20260109T014016Z
LAST-MODIFIED:20260130T025538Z
UID:10000001-1769961600-1769968800@discovergloucester.com
SUMMARY:Beauport Hospitality Group Wedding Showcase
DESCRIPTION:Planning your wedding? Join us at Cruiseport Gloucester to meet with the best Professional Vendors in the business! \nWinning Editor’s Choice for 2025’s Best Bridal Shows by Northshore Magazine\, you’re invited to join the Beauport Hospitality Group Wedding Team—including Beauport Hotel\, Cruiseport Gloucester\, and Beauport Cruiselines—alongside the region’s most sought-after wedding professionals for our Annual Wedding Showcase\, hosted by The 617 Event Group. \nMeet and mingle with premier vendors across every category—florals\, photography\, entertainment\, rentals\, and design—while gathering inspiration for your wedding day. Enjoy the opportunity to tour Cruiseport Gloucester\, one of the North Shore’s most iconic waterfront venues\, featuring sweeping harbor views and striking architectural details. Guests are also invited aboard Beauport Cruiselines\, the 2025 Editor’s Choice winner for Unique Venues\, docked just outside Cruiseport—offering a one-of-a-kind setting for rehearsal dinners\, weddings\, and milestone celebrations. \nAs a guest at our Wedding Showcase\, you will be entered into a giveaway for a chance to win various Beauport Hospitality Group experiences\, including: \nTwo tickets to one of our themed summer cruises aboard Beauport Cruiselines.\nA one-night stay at the Beauport Hotel.\nGift cards to our restaurants: Seaport Grille\, 1606 Restaurant & Oyster Bar\, & Rail Stop Restaurant & Bar.\n$1\,000 off of a room rental when you book your wedding within 5 days of the BHG Wedding Showcase.\nA gift basket from the Beauport Boutique. \nTickets are $15.00 per person. Learn more and purchase tickets today.*Tickets are non-refundable or transferable.
URL:https://discovergloucester.com/event/beauport-wedding-showcase/
LOCATION:Cruiseport Gloucester\, 6 Rowe Square\, Gloucester\, 01930\, United States
ATTACH;FMTTYPE=image/png:https://discovergloucester.com/wp-content/uploads/2026/01/beauport-weddings.png
END:VEVENT
BEGIN:VEVENT
DTSTART;TZID=UTC:20260201T150000
DTEND;TZID=UTC:20260201T170000
DTSTAMP:20260425T183952
CREATED:20260130T032219Z
LAST-MODIFIED:20260130T032219Z
UID:10000012-1769958000-1769965200@discovergloucester.com
SUMMARY:Symphony by the Sea: Mozart: A Family Affair
DESCRIPTION:Join Symphony by the Sea for an unforgettable afternoon celebrating the brilliance and joy of Wolfgang Amadeus Mozart\, featuring beloved SBS favorite Keila Wakao. \nThis special program features four distinguished musicians from the Boston Symphony Orchestra\, joined by acclaimed violinist Keila Wakao\, a favorite of SBS audiences. Together\, these guest artists perform alongside Symphony by the Sea’s own outstanding musicians\, underscoring the orchestra’s ability to attract and collaborate with world-class talent. \nThe guest soloists include:\nKeila Wakao\, violin — an internationally acclaimed soloist praised for her expressive artistry and musical poise\, and a beloved favorite of Symphony by the Sea audiences\nKeisuke Wakao\, oboe — Assistant Principal Oboe of the Boston Symphony Orchestra\nChristopher Elchico\, clarinet — clarinetist with the Boston Symphony Orchestra\nJosh Baker\, bassoon — Associate Principal Bassoonist of the Boston Symphony Orchestra\nMichael Winter\, French horn — French hornist with the Boston Symphony Orchestra\nAt the heart of the program is Mozart’s Sinfonia Concertante\, a brilliant showcase of solo winds in dynamic conversation with the orchestra. The concert also features Mozart’s Violin Concerto No. 3 in G major\, performed by Keila Wakao\, and the composer’s youthful Symphony No. 4 in D major. Together\, the program highlights both individual virtuosity and the music’s collaborative spirit. \nStay for a prosecco and small dessert reception and a chance to meet the musicians.
URL:https://discovergloucester.com/event/symphony-by-the-sea-mozart-a-family-affair/
LOCATION:The Cabot\, 286 Cabot Street\, Beverly\, MA\, United States
CATEGORIES:Live Music
ATTACH;FMTTYPE=image/jpeg:https://discovergloucester.com/wp-content/uploads/2026/01/Mozartfam400x600.jpg
END:VEVENT
END:VCALENDAR